BEGIN:VCALENDAR
VERSION:2.0
PRODID:-//SCHEYTT, Galerie für Schmuck &amp; Kunst - ECPv6.15.20//NONSGML v1.0//EN
CALSCALE:GREGORIAN
METHOD:PUBLISH
X-WR-CALNAME:SCHEYTT, Galerie für Schmuck &amp; Kunst
X-ORIGINAL-URL:https://scheytt-muenchen.de
X-WR-CALDESC:Veranstaltungen für SCHEYTT, Galerie für Schmuck &amp; Kunst
REFRESH-INTERVAL;VALUE=DURATION:PT1H
X-Robots-Tag:noindex
X-PUBLISHED-TTL:PT1H
BEGIN:VTIMEZONE
TZID:Europe/Berlin
BEGIN:DAYLIGHT
TZOFFSETFROM:+0100
TZOFFSETTO:+0200
TZNAME:CEST
DTSTART:20250330T010000
END:DAYLIGHT
BEGIN:STANDARD
TZOFFSETFROM:+0200
TZOFFSETTO:+0100
TZNAME:CET
DTSTART:20251026T010000
END:STANDARD
BEGIN:DAYLIGHT
TZOFFSETFROM:+0100
TZOFFSETTO:+0200
TZNAME:CEST
DTSTART:20260329T010000
END:DAYLIGHT
BEGIN:STANDARD
TZOFFSETFROM:+0200
TZOFFSETTO:+0100
TZNAME:CET
DTSTART:20261025T010000
END:STANDARD
BEGIN:DAYLIGHT
TZOFFSETFROM:+0100
TZOFFSETTO:+0200
TZNAME:CEST
DTSTART:20270328T010000
END:DAYLIGHT
BEGIN:STANDARD
TZOFFSETFROM:+0200
TZOFFSETTO:+0100
TZNAME:CET
DTSTART:20271031T010000
END:STANDARD
END:VTIMEZONE
BEGIN:VEVENT
DTSTART;TZID=Europe/Berlin:20260423T183000
DTEND;TZID=Europe/Berlin:20260606T140000
DTSTAMP:20260420T035027
CREATED:20260406T101353Z
LAST-MODIFIED:20260413T135119Z
UID:7432-1776969000-1780754400@scheytt-muenchen.de
SUMMARY:Cyril Mariaux - Melodie
DESCRIPTION:Cyril Mariaux\, ein aus Frankreich stammender in München lebender Künstler und Illustrator:\n„Ich tanze auf dem Seil\, im Gleichgewicht zwischen zwei Hemisphären\, auf der Suche nach einer besseren\, gerechteren Welt.“ \n  \nPétanque\, Druck auf Papier\, 30x30cm\, 2025\nDruckertinte und Schablonen sind die Mittel\, mit denen Cyril Mariaux Momente des Lebens mit leuchtenden Farben und plakativen Formen darstellt. \nPiscine\, Druck auf Papier\, 40x30cm\, 2025\nDie Illustrationen zeigen Momente\, Erinnerungen\, Gefühle\, Welten zwischen Realität und Traum. \nLantern-man\, Druck auf Papier\, 50x70cm\, 2025\n  \nInspiration findet Cyril Mariaux in der Kunst der 1920 er Jahre\, die ihm viel bedeutet. \n  \nTitel des Beitragsbildes: „farniente“\, Druck auf Papier\, 40x30cm\n  \nVITA\nCyril Mariaux\, geboren in Toulon\, (Frankreich) 1971 \nBesuch der Grafikschule ECV in Paris 1991-94 \nTätig als Illustrator in Paris\, 1995-2005:\n– Agnes b (Illustration für Mode \,T.shirt)\, \n– Magazin Officiel Homme\, Rubrik Airport. \n– Le Monde/Aden. \n– Edition „Tôt ou Tard“ (Cover CD). \n  \nArbeitet und lebt in München seit Ende 2005 \n  \nAusstellungen: \n– Galerie „Home from Home“\, München\, 2009/2012 \n– 84 Ghz\, Kultur im Keller\, München\, 2009 \n– „Literatur Moth“\, Buchhandlung\, München \n– Galerie der Moderne\, Hotel Tannenhof\, Bayrischzell\, 2016 \n– Institut Français\, München\, „Oktoberfest“ 2012\, „Petite Apocalypse“ 2021 \n– Galerie One\, Oberbiberg\, 2018 \n– Galerie Lau\, München\, 2022\, verschiedene Ausstellungen \n– „Les petits papiers“\, Stadtbibliothek Neuhausen\, München\, 2023 \n– „Gens de Passage“\, Gärtner Stiftung\, München\, 2023 \n– Workshop bei „Little Art“\, 2026 \n  \nAuftrag Illustrationen: \n– Franz Marc Museum (Kochel)\, Kaligraphisches Wandfresco\, Workshop \n– Illustrationen für das Buch „Oktober Fest“\, Volk Verlag\, 2012 \n– Seit 2011 Illustrationen für Käfer (Aquarelle\, Einladungs\, Events – Karten) \n– Fresco Collage\, Deko im Cafe „Von & Zu“\, Illustrationen für Münchner Kalender \n– Deko Schaufenster bei Nymphenburg Porzellan \n– Deko Schmuck Laden Cada / Sévigné \n– Illustrationen für Sprichwortkalender\, 2019 \n– Motel One\, Illustrationen für das Hotel „Haidhausen Quartier Français“\, 2019 \n– Illustrationen für das Magazin Spotlight (Die Zeit)\, 2023 \n– Illustrationen für das „Hotel Lindner“\, Bad Aibling\, 2025 \n 
URL:https://scheytt-muenchen.de/kunst/cyril-mariaux-melodie/
LOCATION:Galerie Scheytt\, Kaiserstraße 23\, München\, 80801\, Deutschland
CATEGORIES:Kunst
ATTACH;FMTTYPE=image/jpeg:https://scheytt-muenchen.de/wp-content/uploads/Cyril-Mariaux-in-der-Scheytt-Galerie-scaled.jpg
ORGANIZER;CN="Galerie Scheytt e.K.":MAILTO:mail@scheytt-muenchen.de
END:VEVENT
END:VCALENDAR